BEGIN:VCALENDAR
VERSION:2.0
PRODID:-//TYPO3/NONSGML News system (news)//EN
BEGIN:VEVENT
UID:news-48002@suedosteuropa.uni-graz.at
DTSTAMP:20180524T110532Z
DTSTART:20180607T150000Z
DTEND:20180607T163000Z
SUMMARY:Europäisierungsprozesse in Südosteuropa Ringvorlesung: Europäisierung - Ent-europäisierung und ontologischen Unsicherheiten

DESCRIPTION: Gastvortragender:
Kerem Öktem
Zentrum für Südosteuropastudien
Universität Graz
&lt;a class=&quot;external-link-new-window&quot; href=&quot;https://www.facebook.com/events/350843891988471/&quot;&gt;Facebook event&lt;/a&gt;
END:VEVENT
END:VCALENDAR
