BEGIN:VCALENDAR
VERSION:2.0
PRODID:-//TYPO3/NONSGML News system (news)//EN
BEGIN:VEVENT
UID:news-100663@suedosteuropa.uni-graz.at
DTSTAMP:20230307T101840Z
DTSTART:20230316T170000Z
DTEND:20230316T190000Z
SUMMARY:CareAgeCinema: Plan 75 (2022)

DESCRIPTION:CareAgeCinema:Putting Aging and Care on Screen -  Plan 75 (2022)
END:VEVENT
END:VCALENDAR
