BEGIN:VCALENDAR
VERSION:2.0
PRODID:-//TYPO3/NONSGML News system (news)//EN
BEGIN:VEVENT
UID:news-84495@suedosteuropa.uni-graz.at
DTSTAMP:20220310T122911Z
DTSTART:20220315T120000Z
DTEND:20220315T130000Z
SUMMARY:Brownbag: Religion as an Instrument for Political Support: Perspectives from the Balkans

DESCRIPTION:BB: Jeton Mehmeti - Religion as an Instrument for Political Support: Perspectives from the Balkans
END:VEVENT
END:VCALENDAR
