BEGIN:VCALENDAR
VERSION:2.0
PRODID:-//TYPO3/NONSGML News system (news)//EN
BEGIN:VEVENT
UID:news-68387@suedosteuropa.uni-graz.at
DTSTAMP:20201113T074354Z
DTSTART:20201124T120000Z
DTEND:20201124T130000Z
SUMMARY:Brown Bag: De-bordering and Re-bordering Processes in SEE

DESCRIPTION:Online BB: Marta Zorko - De-bordering and Re-bordering Processes in SEE
END:VEVENT
END:VCALENDAR
