BEGIN:VCALENDAR
VERSION:2.0
PRODID:-//TYPO3/NONSGML News system (news)//EN
BEGIN:VEVENT
UID:news-75043@suedosteuropa.uni-graz.at
DTSTAMP:20210601T095818Z
DTSTART:20210610T160000Z
DTEND:20210610T173000Z
SUMMARY:Book Launch: “Under the Banner of Islam: Turks, Kurds and the Limits of Religious Unity”

DESCRIPTION:Lecture Series 2021 - Intersectional Perspective on Turkey -  Dr. Gülay Türkmen: &quot;Under the Banner of Islam: Turks, Kurds and the Limits of Religious Unity”
END:VEVENT
END:VCALENDAR
