BEGIN:VCALENDAR
VERSION:2.0
PRODID:-//TYPO3/NONSGML News system (news)//EN
BEGIN:VEVENT
UID:news-74379@suedosteuropa.uni-graz.at
DTSTAMP:20210514T065759Z
DTSTART:20210520T160000Z
DTEND:20210520T173000Z
SUMMARY:Book Launch: The National Frame - Art and State Violence in Turkey and Germany

DESCRIPTION:Online lecture series :“Intersectional Perspectives on Turkey
END:VEVENT
END:VCALENDAR
